BEGIN:VCALENDAR
VERSION:2.0
PRODID:-//Lucas Oil Golf Course - ECPv6.15.20//NONSGML v1.0//EN
CALSCALE:GREGORIAN
METHOD:PUBLISH
X-ORIGINAL-URL:https://lucasoilgolfcourse.com
X-WR-CALDESC:Events for Lucas Oil Golf Course
REFRESH-INTERVAL;VALUE=DURATION:PT1H
X-Robots-Tag:noindex
X-PUBLISHED-TTL:PT1H
BEGIN:VTIMEZONE
TZID:America/Toronto
BEGIN:DAYLIGHT
TZOFFSETFROM:-0500
TZOFFSETTO:-0400
TZNAME:EDT
DTSTART:20220313T070000
END:DAYLIGHT
BEGIN:STANDARD
TZOFFSETFROM:-0400
TZOFFSETTO:-0500
TZNAME:EST
DTSTART:20221106T060000
END:STANDARD
BEGIN:DAYLIGHT
TZOFFSETFROM:-0500
TZOFFSETTO:-0400
TZNAME:EDT
DTSTART:20230312T070000
END:DAYLIGHT
BEGIN:STANDARD
TZOFFSETFROM:-0400
TZOFFSETTO:-0500
TZNAME:EST
DTSTART:20231105T060000
END:STANDARD
BEGIN:DAYLIGHT
TZOFFSETFROM:-0500
TZOFFSETTO:-0400
TZNAME:EDT
DTSTART:20240310T070000
END:DAYLIGHT
BEGIN:STANDARD
TZOFFSETFROM:-0400
TZOFFSETTO:-0500
TZNAME:EST
DTSTART:20241103T060000
END:STANDARD
BEGIN:DAYLIGHT
TZOFFSETFROM:-0500
TZOFFSETTO:-0400
TZNAME:EDT
DTSTART:20250309T070000
END:DAYLIGHT
BEGIN:STANDARD
TZOFFSETFROM:-0400
TZOFFSETTO:-0500
TZNAME:EST
DTSTART:20251102T060000
END:STANDARD
END:VTIMEZONE
BEGIN:VEVENT
DTSTART;TZID=America/Toronto:20231124T110000
DTEND;TZID=America/Toronto:20231124T150000
DTSTAMP:20260421T205010
CREATED:20231018T143430Z
LAST-MODIFIED:20231018T143430Z
UID:38067-1700823600-1700838000@lucasoilgolfcourse.com
SUMMARY:Black Friday 2 Man Scramble
DESCRIPTION:Join us for our Black Friday 2 Man Scramble\n  \nDate | November 24th\, 2023 \nLocation | Lucas Oil Golf Course \nFormat | Holes 1-9 Pinehurst Alternate Shot & \n10-18 Two man Scramble \nShotgun | 11:00am \n(Limited to the first 60-2-man teams) \n  \nEntry Fee: \n$140 per team \n$70 per golfer \n  \nIncludes: \nGolf Fees \nPrize Money (Stays with Flight) \nSkin Pot (Stays with Flight) \nBIG SKIN \nLunch included\, Chili Hotdog & Fountain Drink \n  \n\n  \nQuestions? Please Call 812-338-3748\, text 812-767-6170 or email rschitter@lucasoil.com
URL:https://lucasoilgolfcourse.com/event/black-friday-2-man-scramble/
ATTACH;FMTTYPE=image/png:https://lucasoilgolfcourse.com/wp-content/uploads/2023/10/Lucas-Oil-Golf-Course-IN-⎮Black-Friday-2-Man-Scramble-Banner-Landscape-1.png
END:VEVENT
BEGIN:VEVENT
DTSTART;TZID=America/Toronto:20241129T110000
DTEND;TZID=America/Toronto:20241129T110000
DTSTAMP:20260421T205010
CREATED:20241029T181500Z
LAST-MODIFIED:20241029T181520Z
UID:38189-1732878000-1732878000@lucasoilgolfcourse.com
SUMMARY:Black Friday 2-Man Tournament
DESCRIPTION:We’re excited to announce the Black Friday 2-Man Tournament at Lucas Oil Golf Course! Grab a partner and join us for a day of fun and competition on November 29\, 2023 @ 11 am.\nTournament Format\n\nHoles 1-9: Pinehurst Alternate Shot\n\nEach player hits a tee shot. Player A hits Player B’s tee shot\, and vice versa. Choose the best second shot and continue alternating until the ball is holed out.\n\n\nHoles 10-18: 2-Man Scramble\n\nBoth players tee off\, select the best shot\, and continue playing that ball until holed out.\n\n\n\nIncluded in Your Entry Fee\n\nEntry Fee: $170 per team ($85 per individual)\n\nGolf fees\nPrize money (stays with your flight)\nSkin pot (stays with your flight)\nBIG SKIN\n\n\nFood and Drinks: Chili\, hotdogs\, and fountain drinks included during play!\n\n\nTo register\, call 812-338-3748\, text 812-767-6170\, email rschitter@lucasoil.com or register on our website
URL:https://lucasoilgolfcourse.com/event/black-friday-2-man-tournament/
END:VEVENT
END:VCALENDAR