BEGIN:VCALENDAR
VERSION:2.0
PRODID:-//Lucas Oil Golf Course - ECPv6.15.20//NONSGML v1.0//EN
CALSCALE:GREGORIAN
METHOD:PUBLISH
X-WR-CALNAME:Lucas Oil Golf Course
X-ORIGINAL-URL:https://lucasoilgolfcourse.com
X-WR-CALDESC:Events for Lucas Oil Golf Course
REFRESH-INTERVAL;VALUE=DURATION:PT1H
X-Robots-Tag:noindex
X-PUBLISHED-TTL:PT1H
BEGIN:VTIMEZONE
TZID:America/Toronto
BEGIN:DAYLIGHT
TZOFFSETFROM:-0500
TZOFFSETTO:-0400
TZNAME:EDT
DTSTART:20170312T070000
END:DAYLIGHT
BEGIN:STANDARD
TZOFFSETFROM:-0400
TZOFFSETTO:-0500
TZNAME:EST
DTSTART:20171105T060000
END:STANDARD
BEGIN:DAYLIGHT
TZOFFSETFROM:-0500
TZOFFSETTO:-0400
TZNAME:EDT
DTSTART:20180311T070000
END:DAYLIGHT
BEGIN:STANDARD
TZOFFSETFROM:-0400
TZOFFSETTO:-0500
TZNAME:EST
DTSTART:20181104T060000
END:STANDARD
BEGIN:DAYLIGHT
TZOFFSETFROM:-0500
TZOFFSETTO:-0400
TZNAME:EDT
DTSTART:20190310T070000
END:DAYLIGHT
BEGIN:STANDARD
TZOFFSETFROM:-0400
TZOFFSETTO:-0500
TZNAME:EST
DTSTART:20191103T060000
END:STANDARD
BEGIN:DAYLIGHT
TZOFFSETFROM:-0500
TZOFFSETTO:-0400
TZNAME:EDT
DTSTART:20200308T070000
END:DAYLIGHT
BEGIN:STANDARD
TZOFFSETFROM:-0400
TZOFFSETTO:-0500
TZNAME:EST
DTSTART:20201101T060000
END:STANDARD
END:VTIMEZONE
BEGIN:VEVENT
DTSTART;TZID=America/Toronto:20190214T160000
DTEND;TZID=America/Toronto:20190216T220000
DTSTAMP:20260422T175704
CREATED:20190207T154651Z
LAST-MODIFIED:20190207T154651Z
UID:5457-1550160000-1550354400@lucasoilgolfcourse.com
SUMMARY:Valentine's Dinner Weekend
DESCRIPTION:Treat Your loved one to a delicious meal this Valentine’s Day!\nJoin us February\, 14th\, 15th\, and 16th. Dinner will be served starting at 4 PM each day!\nReservations are strongly encouraged\, especially for groups of 5 or more — Call (812) 338-3748 \nThe meal includes an appetizer\, entree\, sides\, and a dessert. You can choose from five different entree options. Menu Available below\, on the website\, and in the clubhouse!
URL:https://lucasoilgolfcourse.com/event/valentines-dinner-weekend/
LOCATION:Lucas Oil Golf Course
END:VEVENT
BEGIN:VEVENT
DTSTART;TZID=America/Toronto:20180727T173000
DTEND;TZID=America/Toronto:20180727T210000
DTSTAMP:20260422T175704
CREATED:20180630T171536Z
LAST-MODIFIED:20180630T185235Z
UID:4807-1532712600-1532725200@lucasoilgolfcourse.com
SUMMARY:Couples Nine & Dine
DESCRIPTION:Couples bring a foursome and play a 9 hole scramble on July 27\, registration at 5:30 tee off at 6:00.  We will reverse draw after play for teams.  Cost is $5 for the scramble and $20 for golf unless you a pass holder then you pay your normal rates.  Any questions please call the clubhouse.
URL:https://lucasoilgolfcourse.com/event/couples-nine-dine/
END:VEVENT
END:VCALENDAR