BEGIN:VCALENDAR
VERSION:2.0
PRODID:-//Lucas Oil Golf Course - ECPv6.15.20//NONSGML v1.0//EN
CALSCALE:GREGORIAN
METHOD:PUBLISH
X-WR-CALNAME:Lucas Oil Golf Course
X-ORIGINAL-URL:https://lucasoilgolfcourse.com
X-WR-CALDESC:Events for Lucas Oil Golf Course
REFRESH-INTERVAL;VALUE=DURATION:PT1H
X-Robots-Tag:noindex
X-PUBLISHED-TTL:PT1H
BEGIN:VTIMEZONE
TZID:America/Toronto
BEGIN:DAYLIGHT
TZOFFSETFROM:-0500
TZOFFSETTO:-0400
TZNAME:EDT
DTSTART:20220313T070000
END:DAYLIGHT
BEGIN:STANDARD
TZOFFSETFROM:-0400
TZOFFSETTO:-0500
TZNAME:EST
DTSTART:20221106T060000
END:STANDARD
BEGIN:DAYLIGHT
TZOFFSETFROM:-0500
TZOFFSETTO:-0400
TZNAME:EDT
DTSTART:20230312T070000
END:DAYLIGHT
BEGIN:STANDARD
TZOFFSETFROM:-0400
TZOFFSETTO:-0500
TZNAME:EST
DTSTART:20231105T060000
END:STANDARD
BEGIN:DAYLIGHT
TZOFFSETFROM:-0500
TZOFFSETTO:-0400
TZNAME:EDT
DTSTART:20240310T070000
END:DAYLIGHT
BEGIN:STANDARD
TZOFFSETFROM:-0400
TZOFFSETTO:-0500
TZNAME:EST
DTSTART:20241103T060000
END:STANDARD
END:VTIMEZONE
BEGIN:VEVENT
DTSTART;VALUE=DATE:20231023
DTEND;VALUE=DATE:20231025
DTSTAMP:20260421T190925
CREATED:20231018T153341Z
LAST-MODIFIED:20231018T153341Z
UID:38078-1698019200-1698191999@lucasoilgolfcourse.com
SUMMARY:Aerification Notice!
DESCRIPTION:  \nAerification Notice!\n\nWeather permitting we will be aerating the greens on Monday\,\nOctober 23rd & Tuesday October 24th\, 2023.\n  \nNine holes will be open to play each day.
URL:https://lucasoilgolfcourse.com/event/aerification-notice/
LOCATION:Lucas Oil Golf Course
ATTACH;FMTTYPE=image/png:https://lucasoilgolfcourse.com/wp-content/uploads/2023/10/Lucas-Oil-Golf-Course-IN-⎮Aerification-Notice-2023-Blog.png
END:VEVENT
END:VCALENDAR